BEGIN:VCALENDAR
VERSION:2.0
PRODID:-//Le site du Cluster Maritime de la Polynésie Française - ECPv4.6.7//NONSGML v1.0//EN
CALSCALE:GREGORIAN
METHOD:PUBLISH
X-WR-CALNAME:Le site du Cluster Maritime de la Polynésie Française
X-ORIGINAL-URL:http://cluster-maritime.pf
X-WR-CALDESC:Events for Le site du Cluster Maritime de la Polynésie Française
BEGIN:VEVENT
DTSTART;TZID=Pacific/Tahiti:20191107T103000
DTEND;TZID=Pacific/Tahiti:20191107T120000
DTSTAMP:20191127T025040
CREATED:20191105T205137Z
LAST-MODIFIED:20191105T205137Z
UID:748-1573122600-1573128000@cluster-maritime.pf
SUMMARY:Infrastructures nautiques : réunion de calage
DESCRIPTION:
URL:http://cluster-maritime.pf/evenement/infrastructures-nautiques-reunion-de-calage/
END:VEVENT
BEGIN:VEVENT
DTSTART;TZID=Pacific/Tahiti:20191107T201500
DTEND;TZID=Pacific/Tahiti:20191107T213000
DTSTAMP:20191127T025040
CREATED:20191105T205254Z
LAST-MODIFIED:20191105T205254Z
UID:751-1573157700-1573162200@cluster-maritime.pf
SUMMARY:Infrastructures nautiques : visioconférence DGOM-CMF-CMOM
DESCRIPTION:
URL:http://cluster-maritime.pf/evenement/infrastructures-nautiques-visioconference-dgom-cmf-cmom/
END:VEVENT
BEGIN:VEVENT
DTSTART;TZID=Pacific/Tahiti:20191114T083000
DTEND;TZID=Pacific/Tahiti:20191114T100000
DTSTAMP:20191127T025040
CREATED:20191105T212834Z
LAST-MODIFIED:20191105T212834Z
UID:767-1573720200-1573725600@cluster-maritime.pf
SUMMARY:Comité de pilotage Formations Economie Bleue
DESCRIPTION:
URL:http://cluster-maritime.pf/evenement/comite-de-pilotage-formations-economie-bleue/
END:VEVENT
END:VCALENDAR